BEGIN:VCALENDAR
VERSION:2.0
PRODID:-//hacksw/handcal//NONSGML v1.0//EN
BEGIN:VEVENT
UID:0957c195cc7418abf649d0a5f425af32
DTSTAMP;TZID=America/New_York:20260419T174305
DTSTART;TZID=America/New_York:20260611T080000
DTEND;TZID=America/New_York:20260611T170000
SUMMARY:2026 The Yacht Sales Summit
DESCRIPTION:Join us on June 11 for the The Yacht Sales Summit at Le Méridien Dania Beach, Fort Lauderdale.Geared toward the sales sector of our membership, this focused program will explore key topics in marketing strategy, technology integration, legal developments, ethics, and emerging market trends. The summit offers an invaluable opportunity for sales professionals and teams to sharpen their skills, exchange insights, and stay ahead of the latest developments shaping yacht sales.Location:Le Méridien Dania Beach at Fort Lauderdale Airport1825 Griffin RoadDania Beach, FL 33004Price:Members | $150Non-Members | $200Sponsorship opportunities are available. Please contact Wendy Dobson at wendy@iyba.org for more information.
LOCATION:1825 Griffin Road Dania Beach FL 33004
END:VEVENT
END:VCALENDAR